BEGIN:VCALENDAR
VERSION:2.0
PRODID:-//Bryant Elementary School - ECPv6.15.20//NONSGML v1.0//EN
CALSCALE:GREGORIAN
METHOD:PUBLISH
X-WR-CALNAME:Bryant Elementary School
X-ORIGINAL-URL:https://bryant.helenaschools.org
X-WR-CALDESC:Events for Bryant Elementary School
REFRESH-INTERVAL;VALUE=DURATION:PT1H
X-Robots-Tag:noindex
X-PUBLISHED-TTL:PT1H
BEGIN:VTIMEZONE
TZID:America/Denver
BEGIN:DAYLIGHT
TZOFFSETFROM:-0700
TZOFFSETTO:-0600
TZNAME:MDT
DTSTART:20220313T090000
END:DAYLIGHT
BEGIN:STANDARD
TZOFFSETFROM:-0600
TZOFFSETTO:-0700
TZNAME:MST
DTSTART:20221106T080000
END:STANDARD
BEGIN:DAYLIGHT
TZOFFSETFROM:-0700
TZOFFSETTO:-0600
TZNAME:MDT
DTSTART:20230312T090000
END:DAYLIGHT
BEGIN:STANDARD
TZOFFSETFROM:-0600
TZOFFSETTO:-0700
TZNAME:MST
DTSTART:20231105T080000
END:STANDARD
BEGIN:DAYLIGHT
TZOFFSETFROM:-0700
TZOFFSETTO:-0600
TZNAME:MDT
DTSTART:20240310T090000
END:DAYLIGHT
BEGIN:STANDARD
TZOFFSETFROM:-0600
TZOFFSETTO:-0700
TZNAME:MST
DTSTART:20241103T080000
END:STANDARD
END:VTIMEZONE
BEGIN:VEVENT
DTSTART;TZID=America/Denver:20230516T160000
DTEND;TZID=America/Denver:20230516T180000
DTSTAMP:20260423T152757
CREATED:20230504T141528Z
LAST-MODIFIED:20230504T142136Z
UID:23111-1684252800-1684260000@bryant.helenaschools.org
SUMMARY:Kindergarten Jumpstart
DESCRIPTION:This exciting event is for incoming 23-24 Kindergarten students and their families! Please see attached info.
URL:https://bryant.helenaschools.org/event/kindergarten-jumpstart/
LOCATION:Helena\, MT\, 59601\, United States
END:VEVENT
END:VCALENDAR